BEGIN:VCALENDAR
VERSION:2.0
PRODID:-//Musikverein Rot an der Rot - ECPv6.15.20//NONSGML v1.0//EN
CALSCALE:GREGORIAN
METHOD:PUBLISH
X-WR-CALNAME:Musikverein Rot an der Rot
X-ORIGINAL-URL:https://mvrot.de
X-WR-CALDESC:Veranstaltungen für Musikverein Rot an der Rot
REFRESH-INTERVAL;VALUE=DURATION:PT1H
X-Robots-Tag:noindex
X-PUBLISHED-TTL:PT1H
BEGIN:VTIMEZONE
TZID:Europe/Berlin
BEGIN:DAYLIGHT
TZOFFSETFROM:+0100
TZOFFSETTO:+0200
TZNAME:CEST
DTSTART:20250330T010000
END:DAYLIGHT
BEGIN:STANDARD
TZOFFSETFROM:+0200
TZOFFSETTO:+0100
TZNAME:CET
DTSTART:20251026T010000
END:STANDARD
BEGIN:DAYLIGHT
TZOFFSETFROM:+0100
TZOFFSETTO:+0200
TZNAME:CEST
DTSTART:20260329T010000
END:DAYLIGHT
BEGIN:STANDARD
TZOFFSETFROM:+0200
TZOFFSETTO:+0100
TZNAME:CET
DTSTART:20261025T010000
END:STANDARD
BEGIN:DAYLIGHT
TZOFFSETFROM:+0100
TZOFFSETTO:+0200
TZNAME:CEST
DTSTART:20270328T010000
END:DAYLIGHT
BEGIN:STANDARD
TZOFFSETFROM:+0200
TZOFFSETTO:+0100
TZNAME:CET
DTSTART:20271031T010000
END:STANDARD
END:VTIMEZONE
BEGIN:VEVENT
DTSTART;TZID=Europe/Berlin:20260425T200000
DTEND;TZID=Europe/Berlin:20260426T000000
DTSTAMP:20260422T155252
CREATED:20260109T200149Z
LAST-MODIFIED:20260109T200149Z
UID:602-1777147200-1777161600@mvrot.de
SUMMARY:Festabend - 150 Jahre Musikverein Rot an der Rot
DESCRIPTION:
URL:https://mvrot.de/termin2/festabend-150-jahre-musikverein-rot-an-der-rot/
LOCATION:Festhalle Rot an der Rot
END:VEVENT
BEGIN:VEVENT
DTSTART;TZID=Europe/Berlin:20260531T110000
DTEND;TZID=Europe/Berlin:20260531T133000
DTSTAMP:20260422T155252
CREATED:20250421T165219Z
LAST-MODIFIED:20260109T200313Z
UID:359-1780225200-1780234200@mvrot.de
SUMMARY:Frühschoppen Kapellenfest Spindelwag
DESCRIPTION:
URL:https://mvrot.de/termin2/fruehschoppen-kapellenfest-spindelwag/
END:VEVENT
BEGIN:VEVENT
DTSTART;TZID=Europe/Berlin:20260604T060000
DTEND;TZID=Europe/Berlin:20260604T133000
DTSTAMP:20260422T155252
CREATED:20250421T165549Z
LAST-MODIFIED:20260109T200420Z
UID:363-1780552800-1780579800@mvrot.de
SUMMARY:Tagwache Fronleichnam anschl. Prozession und Brunnenfest
DESCRIPTION:
URL:https://mvrot.de/termin2/tagwache-fronleichnam-anschl-prozession-und-brunnenfest/
END:VEVENT
BEGIN:VEVENT
DTSTART;TZID=Europe/Berlin:20260606T160000
DTEND;TZID=Europe/Berlin:20260607T000000
DTSTAMP:20260422T155252
CREATED:20260109T200550Z
LAST-MODIFIED:20260109T200550Z
UID:604-1780761600-1780790400@mvrot.de
SUMMARY:Tag der Blasmusik
DESCRIPTION:
URL:https://mvrot.de/termin2/tag-der-blasmusik/
LOCATION:Festhalle Rot an der Rot
END:VEVENT
BEGIN:VEVENT
DTSTART;TZID=Europe/Berlin:20260710T070000
DTEND;TZID=Europe/Berlin:20260710T110000
DTSTAMP:20260422T155252
CREATED:20250421T165633Z
LAST-MODIFIED:20260109T200726Z
UID:365-1783666800-1783681200@mvrot.de
SUMMARY:Blutritt Bad Wurzach
DESCRIPTION:
URL:https://mvrot.de/termin2/blutritt-bad-wurzach/
END:VEVENT
BEGIN:VEVENT
DTSTART;VALUE=DATE:20260808
DTEND;VALUE=DATE:20260810
DTSTAMP:20260422T155252
CREATED:20250118T175849Z
LAST-MODIFIED:20260109T200853Z
UID:284-1786147200-1786319999@mvrot.de
SUMMARY:Dorffest Rot an der Rot 2026
DESCRIPTION:
URL:https://mvrot.de/termin2/dorffest-rot-an-der-rot-2025/
END:VEVENT
BEGIN:VEVENT
DTSTART;TZID=Europe/Berlin:20260906T100000
DTEND;TZID=Europe/Berlin:20260906T110000
DTSTAMP:20260422T155252
CREATED:20250421T165922Z
LAST-MODIFIED:20260109T201102Z
UID:369-1788688800-1788692400@mvrot.de
SUMMARY:Frühschoppen Verenafest
DESCRIPTION:
URL:https://mvrot.de/termin2/fruehschoppen-verenafest/
END:VEVENT
BEGIN:VEVENT
DTSTART;TZID=Europe/Berlin:20261115T100000
DTEND;TZID=Europe/Berlin:20261115T110000
DTSTAMP:20260422T155252
CREATED:20250421T170923Z
LAST-MODIFIED:20260109T201421Z
UID:378-1794736800-1794740400@mvrot.de
SUMMARY:Ständchen Volkstrauertag
DESCRIPTION:
URL:https://mvrot.de/termin2/staendchen-volkstrauertag/
END:VEVENT
BEGIN:VEVENT
DTSTART;VALUE=DATE:20261226
DTEND;VALUE=DATE:20261227
DTSTAMP:20260422T155252
CREATED:20260109T201630Z
LAST-MODIFIED:20260109T201630Z
UID:608-1798243200-1798329599@mvrot.de
SUMMARY:Weihnachtskonzert - Kirche St. Verena
DESCRIPTION:
URL:https://mvrot.de/termin2/weihnachtskonzert-kirche-st-verena/
END:VEVENT
END:VCALENDAR